1.5625
0
0
-1.5625
195196.554024
453147.228315
