1.5625
0
0
-1.5625
171991.879024
569110.958079
