1.5625
0
0
-1.5625
103077.291024
469786.133563
