1.5625
0
0
-1.5625
157566.703024
543928.546846
