1.5625
0
0
-1.5625
105525.437024
477394.337827
