1.5625
0
0
-1.5625
65218.1890236
389831.621421
