1.5625
0
0
-1.5625
30591.2750236
389808.044016
