1.5625
0
0
-1.5625
222029.826024
574838.171953
