1.5625
0
0
-1.5625
222933.622024
571686.358547
