1.5625
0
0
-1.5625
183045.318024
549611.718535
