1.5625
0
0
-1.5625
86627.4860236
398551.416142
