1.5625
0
0
-1.5625
85408.6840236
445714.591004
