1.5625
0
0
-1.5625
199876.714024
575245.602402
