1.5625
0
0
-1.5625
248181.586024
487189.617461
