1.5625
0
0
-1.5625
42371.9960236
368103.783543
