1.5625
0
0
-1.5625
171576.013024
566211.944874
