1.5625
0
0
-1.5625
62571.4570236
398125.862441
