1.5625
0
0
-1.5625
186517.500024
319934.971453
