1.5625
0
0
-1.5625
239215.189024
567425.988854
