1.5625
0
0
-1.5625
241322.508024
549501.693362
