1.5625
0
0
-1.5625
56553.9760236
389838.628346
