1.5625
0
0
-1.5625
231956.703024
521209.027323
