1.5625
0
0
-1.5625
214216.488024
585313.252524
