1.5625
0
0
-1.5625
193764.739024
525555.468311
