1.5625
0
0
-1.5625
193596.805024
354577.086402
