1.5625
0
0
-1.5625
230927.355024
519484.755421
