1.5625
0
0
-1.5625
194061.008024
569485.174524
