1.5625
0
0
-1.5625
181168.113024
556772.456575
