1.5625
0
0
-1.5625
105777.097024
494478.674547
