1.5625
0
0
-1.5625
184137.790024
539014.148315
