1.5625
0
0
-1.5625
247915.586024
605316.365512
