1.5625
0
0
-1.5625
125441.255024
415111.109268
