1.5625
0
0
-1.5625
165199.589024
592114.060421
