1.5625
0
0
-1.5625
206082.620024
455959.816976
