1.5625
0
0
-1.5625
189559.457024
404323.016772
