1.5625
0
0
-1.5625
209396.966024
434392.718819
