1.5625
0
0
-1.5625
107806.453024
446036.510098
