1.5625
0
0
-1.5625
113106.337024
517267.207154
