1.5625
0
0
-1.5625
173030.196024
358057.775965
