1.5625
0
0
-1.5625
207893.022024
584605.511583
