1.5625
0
0
-1.5625
196273.477024
363763.687598
