1.5625
0
0
-1.5625
161192.073024
424164.685874
