1.5625
0
0
-1.5625
231456.915024
562302.967787
