1.5625
0
0
-1.5625
264953.227024
551647.274965
