1.5625
0
0
-1.5625
106371.801024
408837.72498
