1.5625
0
0
-1.5625
174910.431024
551302.059598
