1.5625
0
0
-1.5625
237321.602024
591007.130071
