1.5625
0
0
-1.5625
230237.231024
532560.98811
