1.5625
0
0
-1.5625
191616.967024
563865.888193
