1.5625
0
0
-1.5625
124245.052024
403578.067016
